BEGIN:VCALENDAR
VERSION:2.0
PRODID:-//Mittelstand-Digital Zentrum Tourismus - ECPv6.2.0.1//NONSGML v1.0//EN
CALSCALE:GREGORIAN
METHOD:PUBLISH
X-WR-CALNAME:Mittelstand-Digital Zentrum Tourismus
X-ORIGINAL-URL:https://digitalzentrum-tourismus.de
X-WR-CALDESC:Veranstaltungen für Mittelstand-Digital Zentrum Tourismus
REFRESH-INTERVAL;VALUE=DURATION:PT1H
X-Robots-Tag:noindex
X-PUBLISHED-TTL:PT1H
BEGIN:VTIMEZONE
TZID:UTC
BEGIN:STANDARD
TZOFFSETFROM:+0000
TZOFFSETTO:+0000
TZNAME:UTC
DTSTART:20240101T000000
END:STANDARD
END:VTIMEZONE
BEGIN:VEVENT
DTSTART;TZID=UTC:20241204T100000
DTEND;TZID=UTC:20241204T110000
DTSTAMP:20260420T193530
CREATED:20241113T152824Z
LAST-MODIFIED:20241113T165541Z
UID:10000089-1733306400-1733310000@digitalzentrum-tourismus.de
SUMMARY:Praxiswissen für Vermieter und Agenturen: E-Rechnungen & Steuerpflichten einfach erklärt
DESCRIPTION:Hier Anmelden\n		\n					\n		\n				\n				\n				\n				\n													\n				\n					\n		\n							\n		\n				\n						\n					\n			\n								\n				\n							Die E-Rechnung kommt\, und zwar schneller als man denkt. Ab dem 01.01.2025 müssen alle Unternehmen in der Lage sein\, elektronische Rechnungen zu empfangen und zu verarbeiten. Aber auch darüber hinaus bieten sich Vorteile\, wenn man sich schon jetzt damit beschäftigt. In unserem Webinar erfahren Sie\, wie Sie mit E-Rechnungen Ihre Abläufe vereinfachen und gleichzeitig steuerliche Vorgaben erfüllen können.  Möchten Sie sich mehr auf Ihre Gäste konzentrieren und weniger Zeit mit Rechnungsstellung und Steuerfragen verbringen? In unserem Webinar zeigen wir Ihnen\, wie Sie durch den Einsatz von E-Rechnungen nicht nur gesetzeskonform arbeiten\, sondern auch wertvolle Zeit sparen – die Sie für das Wesentliche nutzen können: Ihre Gäste!  Erfahren Sie\, wie Sie durch den richtigen Einsatz von digitalen Lösungen und praxisorientierten Tools Ihre Abrechnung effizient gestalten und dabei steuerliche Verpflichtungen mühelos erfüllen. Profitieren Sie von konkreten Tipps zu steuerlichen Aspekten und praxisnahen Beispielen\, die Ihnen helfen\, Ihre Arbeitsabläufe zu optimieren und die gesetzlichen Anforderungen zu meistern.  Dieses Webinar findet in Kooperation zwischen dem Mittelstand-Digital Zentrum Tourismus und dem Deutschen Ferienhausverband statt. 						\n				\n					\n		\n							\n		\n				\n						\n					\n			\n								\n				\n			AGENDA:		\n				\n					\n		\n							\n		\n				\n						\n					\n			\n								\n				\n							Was sind die Vorteile von E-Rechnungen?  Grundlagen der E-Rechnung: Einführung in das Konzept der E-Rechnung\, technische Anforderungen und Vorteile für Vermieter und Agenturen.  Steuerliche Aspekte: Welche steuerlichen Verpflichtungen müssen Ferienhausanbieter beachten? Erklärungen zu Umsatzsteuer\, Vorsteuerabzug und der korrekten Handhabung steuerlich relevanter Daten.  Praktische Anwendung und Tools: Überblick über Software-Lösungen zur Erstellung von E-Rechnungen\, die speziell für Ferienhausanbieter geeignet sind.  Fragerunde und Praxisbeispiele: Die Teilnehmer können ihre individuellen Fragen stellen\, und Praxisbeispiele veranschaulichen die Umsetzung im Alltag.  Für wen ist das Webinar geeignet?   Eigentümer von Ferienwohnungen und Ferienhäusern\, Vermittlungsagenturen\, Online-Buchungssystem-Anbieter für Ferienhäuser  Melden Sie sich noch heute an und erhalten Sie wertvolle Einblicke\, um Ihre Abrechnung einfacher\, schneller und gesetzeskonform zu gestalten – und dabei Ihre Gäste noch besser zu betreuen!  Das kostenfreie Webinar wird in Kooperation mit dem Ferienhausverband angeboten. Gerne können Sie die Einladung an weitere Interessenten weiterleiten.  						\n				\n				\n				\n			FÜR WEN IST DIE WORKSHOP GEEIGNET?		\n				\n					\n		\n							\n		\n				\n						\n					\n			\n								\n				\n							Eigentümer von Ferienwohnungen und Ferienhäusern\, Vermittlungsagenturen\, Online-Buchungssystem-Anbieter für Ferienhäuser  Melden Sie sich noch heute an und erhalten Sie wertvolle Einblicke\, um Ihre Abrechnung einfacher\, schneller und gesetzeskonform zu gestalten – und dabei Ihre Gäste noch besser zu betreuen!  Das kostenfreie Webinar wird in Kooperation mit dem Ferienhausverband angeboten. Gerne können Sie die Einladung an weitere Interessenten weiterleiten.  						\n				\n				\n				\n			DAS WEBINAR IST KOSTENFREI.		\n				\n				\n				\n			Referenten:		\n				\n					\n		\n							\n		\n				\n						\n					\n			\n								\n				\n																														\n				\n					\n		\n				\n			\n								\n				\n			Bernhard Holleitner 		\n				\n					\n		\n				\n			\n								\n				\n							Steuerberater\, Dipl.-Wirtschafts-Informatiker  Geschäftsführer der HSP STEUER Holleitner StBges mbH  Nach dem Studium der Wirtschaftsinformatik an der Universität Regensburg als Angestellter bei der DATEV eG im Bereich IT-Consulting mit Schwerpunkt IT-Prüfung und Datenschutz.  In 2012 Bestellung zum Steuerberater und Tätigkeit in eigener Kanzlei; seit 2015 als Gesellschafter und Geschäftsführer bei der HSP STEUER Holleitner StBges mbH.   						\n				\n					\n		\n							\n		\n				\n						\n					\n			\n								\n				\n																														\n				\n					\n		\n				\n			\n								\n				\n			Stephan Kastner 		\n				\n					\n		\n				\n			\n								\n				\n							SEO-Experte\, Tourismusportalbetreiber  Founder & CEO der BST – Bavarian Smart Technologies   Nach der Ausbildung zum Grafik-Designer und mehreren Stationen in großen Agenturen hat Stephan Kastner viele Erfahrungen im Internationalen Marketing gesammelt. Durch die Ausbildung zum Webdesigner wurde die Basis für den Betrieb eines Tourismusportals gelegt und SEO-Kenntnisse seit über 20 Jahren gesammelt. Im Jahr 2023 erfolgte die Gründung der Bavarian Smart Technologies gemeinsam mit Andreas Kortmann. Hier wird die Branchensoftware für Vermieter – Buchungsmanager.de – entwickelt. 
URL:https://digitalzentrum-tourismus.de/events/e-rechnungen-steuerpflichten-einfach-erklaert/
CATEGORIES:Webinar
ATTACH;FMTTYPE=image/png:https://digitalzentrum-tourismus.de/wp-content/uploads/2024/11/Dezember-2024-Webinar-1.png
END:VEVENT
END:VCALENDAR